BEGIN:VCALENDAR
VERSION:2.0
PRODID:-//ChamberMaster//Event Calendar 2.0//EN
METHOD:PUBLISH
X-PUBLISHED-TTL:P1H
REFRESH-INTERVAL:P1H
CALSCALE:GREGORIAN
BEGIN:VTIMEZONE
TZID:America/Chicago
BEGIN:DAYLIGHT
RRULE:FREQ=YEARLY;BYMONTH=3;BYDAY=2SU
DTSTART:20070101T000000
TZOFFSETFROM:-0600
TZOFFSETTO:-0500
TZNAME:Central Daylight Time
END:DAYLIGHT
BEGIN:STANDARD
RRULE:FREQ=YEARLY;BYMONTH=11;BYDAY=1SU
DTSTART:20070101T000000
TZOFFSETFROM:-0500
TZOFFSETTO:-0600
TZNAME:Central Standard Time
END:STANDARD
END:VTIMEZONE
BEGIN:VEVENT
DTSTART;TZID=America/Chicago:20260430T133000
DTEND;TZID=America/Chicago:20260430T150000
X-MICROSOFT-CDO-ALLDAYEVENT:FALSE
SUMMARY:2026 Asian Chamber Boat Tour
DESCRIPTION:Join the Chamber in an exclusive Boat Tour along the Houston Ship Channel. This will be aboard the M/V Sam Houston Vessel. The tour will take 90 Minutes and a valid Government Issue ID will be required for Port Entry. Meet other Chamber Members and learn about what the Port Houston is doing to support international trade.\n\nACC - Sam Houston Boat Tour 2026\nThursday\, April 30\, 2026 - 1:30-300pm\n7300 Clinton\, Houston\, TX 77020Members Only Event
X-ALT-DESC;FMTTYPE=text/html:<!DOCTYPE html><html><head><title></title></head><body aria-disabled="false"><p>Join the Chamber in an exclusive Boat Tour along the Houston Ship Channel. This will be aboard the M/V Sam Houston Vessel. The tour will take 90 Minutes and a valid Government Issue ID will be required for Port Entry. Meet other Chamber Members and learn about what the Port Houston is doing to support international trade.<br><br>ACC - Sam Houston Boat Tour 2026<br>Thursday\, April 30\, 2026 - 1:30-300pm<br>7300 Clinton\, Houston\, TX 77020</p><p>Members Only Event</p></body></html>
LOCATION:7300 Clinton Houston TX 77020
UID:e.3726.1442807
SEQUENCE:3
DTSTAMP:20260421T103644Z
URL:https://asianchamber.growthzoneapp.com/eventcalendar/Details/2026-asian-chamber-boat-tour-1708926?sourceTypeId=Hub
END:VEVENT
END:VCALENDAR
